BEGIN:VCALENDAR
VERSION:2.0
PRODID:-//DJ Ketan aka 4BeCome1 - ECPv6.15.20//NONSGML v1.0//EN
CALSCALE:GREGORIAN
METHOD:PUBLISH
X-WR-CALNAME:DJ Ketan aka 4BeCome1
X-ORIGINAL-URL:https://www.djketan.cz
X-WR-CALDESC:Akce na DJ Ketan aka 4BeCome1
REFRESH-INTERVAL;VALUE=DURATION:PT1H
X-Robots-Tag:noindex
X-PUBLISHED-TTL:PT1H
BEGIN:VTIMEZONE
TZID:UTC
BEGIN:STANDARD
TZOFFSETFROM:+0000
TZOFFSETTO:+0000
TZNAME:UTC
DTSTART:20250101T000000
END:STANDARD
END:VTIMEZONE
BEGIN:VEVENT
DTSTART;TZID=UTC:20260424T200000
DTEND;TZID=UTC:20260425T010000
DTSTAMP:20260425T192924
CREATED:20260420T175444Z
LAST-MODIFIED:20260420T175448Z
UID:1863-1777060800-1777078800@www.djketan.cz
SUMMARY:Ketan & friends
DESCRIPTION:Pravidelný večírek v Daniel´s music lounge baru
URL:https://www.djketan.cz/event/ketan-friends-4/
LOCATION:Daniel´s Pub & Burger Lounge\, Lysá nad Labem
END:VEVENT
END:VCALENDAR