BEGIN:VCALENDAR
VERSION:2.0
PRODID:-//DJ Ketan aka 4BeCome1 - ECPv6.15.20//NONSGML v1.0//EN
CALSCALE:GREGORIAN
METHOD:PUBLISH
X-ORIGINAL-URL:https://www.djketan.cz
X-WR-CALDESC:Akce na DJ Ketan aka 4BeCome1
REFRESH-INTERVAL;VALUE=DURATION:PT1H
X-Robots-Tag:noindex
X-PUBLISHED-TTL:PT1H
BEGIN:VTIMEZONE
TZID:UTC
BEGIN:STANDARD
TZOFFSETFROM:+0000
TZOFFSETTO:+0000
TZNAME:UTC
DTSTART:20090101T000000
END:STANDARD
END:VTIMEZONE
BEGIN:VEVENT
DTSTART;TZID=UTC:20101030T200000
DTEND;TZID=UTC:20101030T235000
DTSTAMP:20260425T193218
CREATED:20101030T000000Z
LAST-MODIFIED:20101030T000000Z
UID:986-1288468800-1288482600@www.djketan.cz
SUMMARY:Akropolis Multimediale
DESCRIPTION:Cartonnage (VS) + DJs Pocolocco & B-Fly (MS) + RETROSPECTION!!NIGHT – SLOVAKIA EDITION (DB) – Djs: KETAN feat. RISHIN (live percussion) + ANIKO TOMOWITCH (SK) & TOMIN TOMOVIC (SK) – opět nás čeká mezinárodní účast plná progressive houseu a latin-tribal rytmů za doprovodu živých perkusů – hosté z bratislavského bookingu www.sensitivepeople.eu nás pobaví svými sourozeneckými sety. Více o akci: www.poslouchej.net/13325-Tata-bojs-a-Cartonnage-na-Akropolis-Multimediale.html
URL:https://www.djketan.cz/event/akropolis-multimediale/
END:VEVENT
END:VCALENDAR