BEGIN:VCALENDAR
VERSION:2.0
PRODID:-//DJ Ketan aka 4BeCome1 - ECPv6.15.20//NONSGML v1.0//EN
CALSCALE:GREGORIAN
METHOD:PUBLISH
X-ORIGINAL-URL:https://www.djketan.cz
X-WR-CALDESC:Akce na DJ Ketan aka 4BeCome1
REFRESH-INTERVAL;VALUE=DURATION:PT1H
X-Robots-Tag:noindex
X-PUBLISHED-TTL:PT1H
BEGIN:VTIMEZONE
TZID:UTC
BEGIN:STANDARD
TZOFFSETFROM:+0000
TZOFFSETTO:+0000
TZNAME:UTC
DTSTART:20100101T000000
END:STANDARD
END:VTIMEZONE
BEGIN:VEVENT
DTSTART;TZID=UTC:20110625T200000
DTEND;TZID=UTC:20110625T235000
DTSTAMP:20260425T193811
CREATED:20110625T000000Z
LAST-MODIFIED:20110625T000000Z
UID:967-1309032000-1309045800@www.djketan.cz
SUMMARY:Hypnotic
DESCRIPTION:Ketan\, Aniko Tomowitch + Tomin (sensitivepeople djs) – další pokračování úspěšných eventů v režii oblíbené slovenské bookingové a pořadatelské agentury bude tentokráte zaměřená na temnější a deepovější odnože inteligentní house music. Už se do slovenské Radosti moc těším!!
URL:https://www.djketan.cz/event/hypnotic/
END:VEVENT
END:VCALENDAR