BEGIN:VCALENDAR
VERSION:2.0
PRODID:-//DJ Ketan aka 4BeCome1 - ECPv6.15.20//NONSGML v1.0//EN
CALSCALE:GREGORIAN
METHOD:PUBLISH
X-ORIGINAL-URL:https://www.djketan.cz
X-WR-CALDESC:Akce na DJ Ketan aka 4BeCome1
REFRESH-INTERVAL;VALUE=DURATION:PT1H
X-Robots-Tag:noindex
X-PUBLISHED-TTL:PT1H
BEGIN:VTIMEZONE
TZID:UTC
BEGIN:STANDARD
TZOFFSETFROM:+0000
TZOFFSETTO:+0000
TZNAME:UTC
DTSTART:20160101T000000
END:STANDARD
END:VTIMEZONE
BEGIN:VEVENT
DTSTART;TZID=UTC:20170920T200000
DTEND;TZID=UTC:20170920T235000
DTSTAMP:20260425T193648
CREATED:20170920T000000Z
LAST-MODIFIED:20170920T000000Z
UID:1137-1505937600-1505951400@www.djketan.cz
SUMMARY:Music Please Livestream
DESCRIPTION:Děkujeme za pozvání na livestream do klubu Chapeau Rouge Prague\, který pravidelně realizuje organizace Music Please.Začátek v 18:00. \n  \n.. klikni na název pro více infa .. \nČekujte facebook skupinu Music Please a klubu \nhttps://www.facebook.com/musicplease.org/https://www.facebook.com/chapeaucz/?fref=ts \nPředstavíme se v sestavě Dudu Morais Drums (bra) a Skibinskyy´s Clarinet (by)
URL:https://www.djketan.cz/event/music-please-livestream/
END:VEVENT
END:VCALENDAR