BEGIN:VCALENDAR
VERSION:2.0
PRODID:-//DJ Ketan aka 4BeCome1 - ECPv6.15.20//NONSGML v1.0//EN
CALSCALE:GREGORIAN
METHOD:PUBLISH
X-WR-CALNAME:DJ Ketan aka 4BeCome1
X-ORIGINAL-URL:https://www.djketan.cz
X-WR-CALDESC:Akce na DJ Ketan aka 4BeCome1
REFRESH-INTERVAL;VALUE=DURATION:PT1H
X-Robots-Tag:noindex
X-PUBLISHED-TTL:PT1H
BEGIN:VTIMEZONE
TZID:UTC
BEGIN:STANDARD
TZOFFSETFROM:+0000
TZOFFSETTO:+0000
TZNAME:UTC
DTSTART:20110101T000000
END:STANDARD
END:VTIMEZONE
BEGIN:VEVENT
DTSTART;TZID=UTC:20120714T200000
DTEND;TZID=UTC:20120714T235000
DTSTAMP:20260425T193546
CREATED:20120714T000000Z
LAST-MODIFIED:20120714T000000Z
UID:1035-1342296000-1342309800@www.djketan.cz
SUMMARY:Cinda Open air
DESCRIPTION:DJS: – Main stage: Marco Nastic (RS)\, Chris Sadler\, Jerry\, E-lite\, Orbith\, KIFLI\, Carrasco\, Bon Finix\, Pete Walk\, Hydrophonic – Minimal People stage: Ladida\, Soundjet\, Gusman\, DaMoon\, Audiot\, Subsist\, Sonja – Doklubu.cz stage: Slovak\, P-jay\, Peet Sanders\, Raffael de La Rue\, Revis\, Looky\, Ketan\, Ezwell\, Smoke\, B.one.k – Touster stage: Marco Zaffarano (D)\, Pavel Krejdl\, Marty Fish\, LamyCZ\, Shimita\, Tokátko\, Ufi DaMan\, Wilda\, Vasquez\, Schwing\, Flesh\, Taada – Jackin stage: Farrelly\, Godzi\, Mark Twin\, Thomanec\, Lister\, Fappipe – skvělý pražský open air\, který začíná ve 12:00 a končí úderem 22:00 – je to striktně denní záležitost (pokud nepočítáme noční after na jiném místě)\, takže určitě doražte!! www.cindaopenair.cz
URL:https://www.djketan.cz/event/cinda-open-air/
END:VEVENT
END:VCALENDAR