BEGIN:VCALENDAR
VERSION:2.0
PRODID:-//DJ Ketan aka 4BeCome1 - ECPv6.15.20//NONSGML v1.0//EN
CALSCALE:GREGORIAN
METHOD:PUBLISH
X-WR-CALNAME:DJ Ketan aka 4BeCome1
X-ORIGINAL-URL:https://www.djketan.cz
X-WR-CALDESC:Akce na DJ Ketan aka 4BeCome1
REFRESH-INTERVAL;VALUE=DURATION:PT1H
X-Robots-Tag:noindex
X-PUBLISHED-TTL:PT1H
BEGIN:VTIMEZONE
TZID:UTC
BEGIN:STANDARD
TZOFFSETFROM:+0000
TZOFFSETTO:+0000
TZNAME:UTC
DTSTART:20180101T000000
END:STANDARD
END:VTIMEZONE
BEGIN:VEVENT
DTSTART;TZID=UTC:20190817T200000
DTEND;TZID=UTC:20190817T235000
DTSTAMP:20260425T193547
CREATED:20190817T000000Z
LAST-MODIFIED:20190817T000000Z
UID:1175-1566072000-1566085800@www.djketan.cz
SUMMARY:Containall between the trees
DESCRIPTION:Containall Stromovka je v Praze velmi oblíbené multikulturní místo s tradicí a především skvělou vizí.Součástí programu jsou pravidelné projekce letního kina\, divadelní představení\, hudební projekty\, workshopy\, prezentace neziskových organizací\, sportovní akce a samozřejmě příjemné DJské večírky\, které začínají už od 18:00h. \n… klikni na název pro více infa … \nDJské Deephouse/lounge odpoledne\, kde budu od 18/19h až do 22h všem přítomným hrát pod vousy samé hitovky. Vždy se mnou vystoupí host z naší CRW https://www.facebook.com/crwdjsofficial/ \nSledujte ofiko FCB https://www.facebook.com/containall/ \nContainall se nachází ve Stromovce v Královské oboře\, kousek od výstaviště Holešovice.
URL:https://www.djketan.cz/event/containall-between-the-trees-4/
END:VEVENT
BEGIN:VEVENT
DTSTART;TZID=UTC:20190719T200000
DTEND;TZID=UTC:20190719T235000
DTSTAMP:20260425T193547
CREATED:20190719T000000Z
LAST-MODIFIED:20190719T000000Z
UID:1174-1563566400-1563580200@www.djketan.cz
SUMMARY:Containall between the trees
DESCRIPTION:Containall Stromovka je v Praze velmi oblíbené multikulturní místo s tradicí a především skvělou vizí.Součástí programu jsou pravidelné projekce letního kina\, divadelní představení\, hudební projekty\, workshopy\, prezentace neziskových organizací\, sportovní akce a samozřejmě příjemné DJské večírky\, které začínají už od 18:00h. \n  \n… klikni na název pro více infa … \nDJské Deephouse/lounge odpoledne\, kde budu od 18/19h až do 22h všem přítomným hrát pod vousy samé hitovky. Vždy se mnou vystoupí host z naší CRW https://www.facebook.com/crwdjsofficial/  \nSledujte ofiko FCB https://www.facebook.com/containall/  \nContainall se nachází ve Stromovce v Královské oboře\, kousek od výstaviště Holešovice.
URL:https://www.djketan.cz/event/containall-between-the-trees-3/
END:VEVENT
BEGIN:VEVENT
DTSTART;TZID=UTC:20190621T200000
DTEND;TZID=UTC:20190621T235000
DTSTAMP:20260425T193547
CREATED:20190621T000000Z
LAST-MODIFIED:20190621T000000Z
UID:1172-1561147200-1561161000@www.djketan.cz
SUMMARY:Containall between the trees
DESCRIPTION:AKCE ZRUŠENA – TECHNICKÉ A PROVOZNÍ DŮVODY!! \nContainall Stromovka je v Praze velmi oblíbené multikulturní místo s tradicí a především skvělou vizí.Součástí programu jsou pravidelné projekce letního kina\, divadelní představení\, hudební projekty\, workshopy\, prezentace neziskových organizací\, sportovní akce a samozřejmě příjemné DJské večírky\, které začínají už od 18:00h. \n  \n… klikni na název pro více infa … \nDJské Deephouse/lounge odpoledne\, kde budu od 18/19h až do 22h všem přítomným hrát pod vousy samé hitovky. Vždy se mnou vystoupí host z naší CRW https://www.facebook.com/crwdjsofficial/ \nSledujte ofiko FCB https://www.facebook.com/containall/ \nContainall se nachází ve Stromovce v Královské oboře\, kousek od výstaviště Holešovice.
URL:https://www.djketan.cz/event/containall-between-the-trees-2/
END:VEVENT
BEGIN:VEVENT
DTSTART;TZID=UTC:20190517T200000
DTEND;TZID=UTC:20190517T235000
DTSTAMP:20260425T193547
CREATED:20190517T000000Z
LAST-MODIFIED:20190517T000000Z
UID:1171-1558123200-1558137000@www.djketan.cz
SUMMARY:Containall between the trees
DESCRIPTION:Containall Stromovka\, je v Praze velmi oblíbené multikulturní místo s tradicí a především skvělou vizí.Součástí programu jsou pravidelné projekce letního kina\, divadelní představení\, hudební projekty\, workshopy\, prezentace neziskových organizací a sportovní akce. \n  \n… klikni na název pro více infa … \nDJské Deephouse/lounge odpoledne\, kde budu od 18/19h až do 22h všem přítomným hrát pod vousy samé hitovky. Vždy se mnou vystoupí host z naší CRW https://www.facebook.com/crwdjsofficial/ \nSledujte ofiko FCB https://www.facebook.com/containall/
URL:https://www.djketan.cz/event/containall-between-the-trees/
END:VEVENT
END:VCALENDAR