BEGIN:VCALENDAR
VERSION:2.0
PRODID:-//DJ Ketan aka 4BeCome1 - ECPv6.15.20//NONSGML v1.0//EN
CALSCALE:GREGORIAN
METHOD:PUBLISH
X-ORIGINAL-URL:https://www.djketan.cz
X-WR-CALDESC:Akce na DJ Ketan aka 4BeCome1
REFRESH-INTERVAL;VALUE=DURATION:PT1H
X-Robots-Tag:noindex
X-PUBLISHED-TTL:PT1H
BEGIN:VTIMEZONE
TZID:UTC
BEGIN:STANDARD
TZOFFSETFROM:+0000
TZOFFSETTO:+0000
TZNAME:UTC
DTSTART:20190101T000000
END:STANDARD
END:VTIMEZONE
BEGIN:VEVENT
DTSTART;TZID=UTC:20200815T200000
DTEND;TZID=UTC:20200815T235000
DTSTAMP:20260425T193639
CREATED:20200815T000000Z
LAST-MODIFIED:20200815T000000Z
UID:1198-1597521600-1597535400@www.djketan.cz
SUMMARY:DeepMinimal House Party
DESCRIPTION:Denní happening v pražské Stromovce se skvělými host. Josef Sedloň\, Schwa\, Twin ad. už od pravého poledne. \n… klikni na název pro více infa …  \nSchwa\, Josef Sedloň\, Asi\, Unjack\, Twin\, Matt Walli … super sestava na ideální prosluněnné odpoledne ..  \nhttps://www.facebook.com/events/663744160881327/
URL:https://www.djketan.cz/event/deepminimal-house-party/
END:VEVENT
BEGIN:VEVENT
DTSTART;TZID=UTC:20200801T200000
DTEND;TZID=UTC:20200801T235000
DTSTAMP:20260425T193639
CREATED:20200801T000000Z
LAST-MODIFIED:20200801T000000Z
UID:1197-1596312000-1596325800@www.djketan.cz
SUMMARY:Bang! Gauč:ing Ed.
DESCRIPTION:Legendární mejdan Bang! vyráží do Gauče ve Stromovce\, kde si uděláme denní mejdan. Skvělá sestava a skvělé místo! \n… klikni na název pro více infa …  \nDjs: Cut Dem\, Ill Rick a Ill Pepson\, Mr. Funky Machine\, Cashmeer a Skywalker\, Voita a Brada .. začátek 12h a konec 22h.  \nBude to super!
URL:https://www.djketan.cz/event/bang-gaucing-ed/
END:VEVENT
END:VCALENDAR