BEGIN:VCALENDAR
VERSION:2.0
PRODID:-//DJ Ketan aka 4BeCome1 - ECPv6.15.20//NONSGML v1.0//EN
CALSCALE:GREGORIAN
METHOD:PUBLISH
X-WR-CALNAME:DJ Ketan aka 4BeCome1
X-ORIGINAL-URL:https://www.djketan.cz
X-WR-CALDESC:Akce na DJ Ketan aka 4BeCome1
REFRESH-INTERVAL;VALUE=DURATION:PT1H
X-Robots-Tag:noindex
X-PUBLISHED-TTL:PT1H
BEGIN:VTIMEZONE
TZID:UTC
BEGIN:STANDARD
TZOFFSETFROM:+0000
TZOFFSETTO:+0000
TZNAME:UTC
DTSTART:20120101T000000
END:STANDARD
END:VTIMEZONE
BEGIN:VEVENT
DTSTART;TZID=UTC:20130816T200000
DTEND;TZID=UTC:20130816T235000
DTSTAMP:20260426T032736
CREATED:20130816T000000Z
LAST-MODIFIED:20130816T000000Z
UID:1077-1376683200-1376697000@www.djketan.cz
SUMMARY:The SUN festival
DESCRIPTION:DJs: DJane Nakadia / THAI\, CJ Bolland & MC Screen / BE\, Ketan & Band!\, Tráva vs Loutka DJ Battle\, Elektrabel live\, Mr. X & Mr. Y aka Westbam & Afrika Islam / DE – USA\, TGT – Trancegate\, 2Takt\, Džejár aka Roger Venzent\, Jay Beck\, Jakub Mildner\, Mr. Z / RU\, Philipp Straub / AT\, Marco Bailey / BE\, Ben Long & Jamie Bissmire aka Space DJz / UK in 4deckz / 2 mixerz / 4 hands / 3 hours show\, B.Unique\, Dj Rush / Knee´Deep\, USA\, LIVE: Northern Lite / Una Music\, DE\, and more than 300 Djs ..
URL:https://www.djketan.cz/event/the-sun-festival/
END:VEVENT
END:VCALENDAR