BEGIN:VCALENDAR
VERSION:2.0
PRODID:-//DJ Ketan aka 4BeCome1 - ECPv6.15.20//NONSGML v1.0//EN
CALSCALE:GREGORIAN
METHOD:PUBLISH
X-ORIGINAL-URL:https://www.djketan.cz
X-WR-CALDESC:Akce na DJ Ketan aka 4BeCome1
REFRESH-INTERVAL;VALUE=DURATION:PT1H
X-Robots-Tag:noindex
X-PUBLISHED-TTL:PT1H
BEGIN:VTIMEZONE
TZID:UTC
BEGIN:STANDARD
TZOFFSETFROM:+0000
TZOFFSETTO:+0000
TZNAME:UTC
DTSTART:20080101T000000
END:STANDARD
END:VTIMEZONE
BEGIN:VEVENT
DTSTART;TZID=UTC:20090618T200000
DTEND;TZID=UTC:20090618T235000
DTSTAMP:20260425T193510
CREATED:20090618T000000Z
LAST-MODIFIED:20090618T000000Z
UID:1062-1245355200-1245369000@www.djketan.cz
SUMMARY:RETROSPECTION!!NIGHT - LOUNGE F@CKING
DESCRIPTION:Ketan vs Katrin (Ru – vocals) + hosté
URL:https://www.djketan.cz/event/retrospection-night-lounge-fcking/
END:VEVENT
END:VCALENDAR