BEGIN:VCALENDAR
VERSION:2.0
PRODID:-//DJ Ketan aka 4BeCome1 - ECPv6.15.20//NONSGML v1.0//EN
CALSCALE:GREGORIAN
METHOD:PUBLISH
X-ORIGINAL-URL:https://www.djketan.cz
X-WR-CALDESC:Akce na DJ Ketan aka 4BeCome1
REFRESH-INTERVAL;VALUE=DURATION:PT1H
X-Robots-Tag:noindex
X-PUBLISHED-TTL:PT1H
BEGIN:VTIMEZONE
TZID:UTC
BEGIN:STANDARD
TZOFFSETFROM:+0000
TZOFFSETTO:+0000
TZNAME:UTC
DTSTART:20090101T000000
END:STANDARD
END:VTIMEZONE
BEGIN:VEVENT
DTSTART;TZID=UTC:20110305T200000
DTEND;TZID=UTC:20110305T235000
DTSTAMP:20260425T195841
CREATED:20110305T000000Z
LAST-MODIFIED:20110305T000000Z
UID:974-1299355200-1299369000@www.djketan.cz
SUMMARY:Birthday Match
DESCRIPTION:Rezidentní djs klubu + special guest dj Ketan – vyjímečná párty\, kde oslaví provozovatelé klubu své narozeniny – toto bude párty jak má být!!
URL:https://www.djketan.cz/event/birthday-match/
END:VEVENT
BEGIN:VEVENT
DTSTART;TZID=UTC:20101203T200000
DTEND;TZID=UTC:20101203T235000
DTSTAMP:20260425T195841
CREATED:20101203T000000Z
LAST-MODIFIED:20101203T000000Z
UID:982-1291406400-1291420200@www.djketan.cz
SUMMARY:RETROSPECTION!!NIGHT - CIRCUS EDITION vol.2
DESCRIPTION:Djs: Ketan\, Dannloop + guest – další pokračování ústeckého mejdanu v naší režii. Info soon … http://www.circus.cz/
URL:https://www.djketan.cz/event/retrospection-night-circus-edition-vol2/
END:VEVENT
BEGIN:VEVENT
DTSTART;TZID=UTC:20100927T200000
DTEND;TZID=UTC:20100927T235000
DTSTAMP:20260425T195841
CREATED:20100927T000000Z
LAST-MODIFIED:20100927T000000Z
UID:990-1285617600-1285631400@www.djketan.cz
SUMMARY:RETROSPECTION!!NIGHT - CIRCUS EDITION
DESCRIPTION:Djs: Ketan\, Dannloop\, AK-47 – mimopražské vydání mojich rezidentních večerů v příjemném severočeském klubu Circus\, který se nemá rozhodně za co stydět. Pravidelná multižánrová produkce zajišťuje klubu klientelu\, která se ráda vrací. http://www.circus.cz/
URL:https://www.djketan.cz/event/retrospection-night-circus-edition/
END:VEVENT
END:VCALENDAR