BEGIN:VCALENDAR
VERSION:2.0
PRODID:-//DJ Ketan aka 4BeCome1 - ECPv6.15.20//NONSGML v1.0//EN
CALSCALE:GREGORIAN
METHOD:PUBLISH
X-WR-CALNAME:DJ Ketan aka 4BeCome1
X-ORIGINAL-URL:https://www.djketan.cz
X-WR-CALDESC:Akce na DJ Ketan aka 4BeCome1
REFRESH-INTERVAL;VALUE=DURATION:PT1H
X-Robots-Tag:noindex
X-PUBLISHED-TTL:PT1H
BEGIN:VTIMEZONE
TZID:UTC
BEGIN:STANDARD
TZOFFSETFROM:+0000
TZOFFSETTO:+0000
TZNAME:UTC
DTSTART:20080101T000000
END:STANDARD
END:VTIMEZONE
BEGIN:VEVENT
DTSTART;TZID=UTC:20091127T200000
DTEND;TZID=UTC:20091127T235000
DTSTAMP:20260425T193506
CREATED:20091127T000000Z
LAST-MODIFIED:20091127T000000Z
UID:1052-1259352000-1259365800@www.djketan.cz
SUMMARY:RETROSPECTION!!night - birthday edition
DESCRIPTION:Djs: Ketan + voc. Katrin (Ru)& live bongo/percuss performance + dj Dannloop + dj Migell (studio54) – Katriny narozeniny ve velkém stylu – lounge magazine asi nebude!
URL:https://www.djketan.cz/event/retrospection-night-12/
END:VEVENT
END:VCALENDAR