BEGIN:VCALENDAR
VERSION:2.0
PRODID:-//DJ Ketan aka 4BeCome1 - ECPv6.15.20//NONSGML v1.0//EN
CALSCALE:GREGORIAN
METHOD:PUBLISH
X-ORIGINAL-URL:https://www.djketan.cz
X-WR-CALDESC:Akce na DJ Ketan aka 4BeCome1
REFRESH-INTERVAL;VALUE=DURATION:PT1H
X-Robots-Tag:noindex
X-PUBLISHED-TTL:PT1H
BEGIN:VTIMEZONE
TZID:UTC
BEGIN:STANDARD
TZOFFSETFROM:+0000
TZOFFSETTO:+0000
TZNAME:UTC
DTSTART:20100101T000000
END:STANDARD
END:VTIMEZONE
BEGIN:VEVENT
DTSTART;TZID=UTC:20110513T200000
DTEND;TZID=UTC:20110513T235000
DTSTAMP:20260425T193648
CREATED:20110513T000000Z
LAST-MODIFIED:20110513T000000Z
UID:970-1305316800-1305330600@www.djketan.cz
SUMMARY:GTFCKD vol.4
DESCRIPTION:MAIN STAGE: MR.X aka AFRIKA ISLAM (LA-USA)\, KETAN feat Rishin (drums)\, Josef Sedloň\, Dannloop – LÁVKA NIGHT STAGE: ORION\, Raval\, Mastaz – VIP BOAT TRIP (only for VIP and only from 20h-23h): Afrika Islam + Ketan + AK-47 (Yug). VIP BOAT Vás dokonale naladí na hlavní program celé akce. BOAT vyjede ve 20 hodin a ke klubu Lávka Vás doveze kolem 23.hodiny. Na lodi vystoupí také se speciální show Afrika Islam\, doplní ho Ketan a AK-47. Hlavní program v klubu Lávka začína od 22h. a končit bude v 06h. ráno. Vstupenky na VIP BOAT lze zakoupit pouze v předprodeji v síti Ticketportal za 500\,-. Na místě již VIP lístky koupit nelze!! Obyčejný vstup stojí 200\,- v předprodeji a 250\,- na místě. Klub je otevřen od od 21:30h a vstup je od 18ti let bez vyjímek! Na druhé Lávka Night stage vystoupí skvělý Orion s dalšími rezidentními djs klubu Lávka. Sledujte pozorně naše webové stránky www.getfcked.com a facebook a vyhrajte třeba lístky na tuto jedinečnou akci. Čekají Vás dvě stagee přímo v klubu Lávka\, terasy v okolí klubu\, ledový Shake bar\, skvělé světla\, zvuk\, 3-hodinová plavba na VIP BOAT se skvělou hudbou\, welcome drinky od našich partnerů a mnoho dalšího!!!
URL:https://www.djketan.cz/event/gtfckd-vol4/
END:VEVENT
BEGIN:VEVENT
DTSTART;TZID=UTC:20110218T200000
DTEND;TZID=UTC:20110218T235000
DTSTAMP:20260425T193648
CREATED:20110218T000000Z
LAST-MODIFIED:20110218T000000Z
UID:976-1298059200-1298073000@www.djketan.cz
SUMMARY:GTFCKD with COCAINE
DESCRIPTION:POSLOUCHEJ.NET MAIN STAGE: CORVIN DALEK (HU)\, KETAN feat. RISHIN (live percussion)\, PETE WALK\, JAKUB MILDNER – 2.DEEP STAGE: FACE aka MYCLICK\, SONJA\, DANNLOOP + hosté – specialní vizualizace a dekorace\, super sound\, předprodej v síti Ticketportal\, více info již brzy\, sledujete oficiální web party GTFCKD – www.getfcked.com a náš facebook
URL:https://www.djketan.cz/event/gtfckd-with-cocaine/
END:VEVENT
END:VCALENDAR