BEGIN:VCALENDAR
VERSION:2.0
PRODID:-//DJ Ketan aka 4BeCome1 - ECPv6.15.20//NONSGML v1.0//EN
CALSCALE:GREGORIAN
METHOD:PUBLISH
X-WR-CALNAME:DJ Ketan aka 4BeCome1
X-ORIGINAL-URL:https://www.djketan.cz
X-WR-CALDESC:Akce na DJ Ketan aka 4BeCome1
REFRESH-INTERVAL;VALUE=DURATION:PT1H
X-Robots-Tag:noindex
X-PUBLISHED-TTL:PT1H
BEGIN:VTIMEZONE
TZID:UTC
BEGIN:STANDARD
TZOFFSETFROM:+0000
TZOFFSETTO:+0000
TZNAME:UTC
DTSTART:20080101T000000
END:STANDARD
END:VTIMEZONE
BEGIN:VEVENT
DTSTART;TZID=UTC:20090725T200000
DTEND;TZID=UTC:20090725T235000
DTSTAMP:20260426T015109
CREATED:20090725T000000Z
LAST-MODIFIED:20090725T000000Z
UID:1057-1248552000-1248565800@www.djketan.cz
SUMMARY:NAROZENINY LE MIRAGE
DESCRIPTION:maškarní párty – Djs: Ketan vs. Katrin (vocals)\, Toner + hosté
URL:https://www.djketan.cz/event/narozeniny-le-mirage/
END:VEVENT
END:VCALENDAR