BEGIN:VCALENDAR
VERSION:2.0
PRODID:-//DJ Ketan aka 4BeCome1 - ECPv6.15.20//NONSGML v1.0//EN
CALSCALE:GREGORIAN
METHOD:PUBLISH
X-WR-CALNAME:DJ Ketan aka 4BeCome1
X-ORIGINAL-URL:https://www.djketan.cz
X-WR-CALDESC:Akce na DJ Ketan aka 4BeCome1
REFRESH-INTERVAL;VALUE=DURATION:PT1H
X-Robots-Tag:noindex
X-PUBLISHED-TTL:PT1H
BEGIN:VTIMEZONE
TZID:UTC
BEGIN:STANDARD
TZOFFSETFROM:+0000
TZOFFSETTO:+0000
TZNAME:UTC
DTSTART:20080101T000000
END:STANDARD
END:VTIMEZONE
BEGIN:VEVENT
DTSTART;TZID=UTC:20120922T200000
DTEND;TZID=UTC:20120922T235000
DTSTAMP:20260425T193713
CREATED:20120922T000000Z
LAST-MODIFIED:20120922T000000Z
UID:1026-1348344000-1348357800@www.djketan.cz
SUMMARY:Retrospection!!Night
DESCRIPTION:
URL:https://www.djketan.cz/event/retrospection-night/
END:VEVENT
BEGIN:VEVENT
DTSTART;TZID=UTC:20120106T200000
DTEND;TZID=UTC:20120106T235000
DTSTAMP:20260425T193713
CREATED:20120106T000000Z
LAST-MODIFIED:20120106T000000Z
UID:950-1325880000-1325893800@www.djketan.cz
SUMMARY:Retro!!night
DESCRIPTION:Djs Ketan + hosté
URL:https://www.djketan.cz/event/retro-night/
END:VEVENT
BEGIN:VEVENT
DTSTART;TZID=UTC:20111202T200000
DTEND;TZID=UTC:20111202T235000
DTSTAMP:20260425T193713
CREATED:20111202T000000Z
LAST-MODIFIED:20111202T000000Z
UID:952-1322856000-1322869800@www.djketan.cz
SUMMARY:Retronight!!
DESCRIPTION:Ketan + hosté
URL:https://www.djketan.cz/event/retronight/
END:VEVENT
BEGIN:VEVENT
DTSTART;TZID=UTC:20101127T200000
DTEND;TZID=UTC:20101127T235000
DTSTAMP:20260425T193713
CREATED:20101127T000000Z
LAST-MODIFIED:20101127T000000Z
UID:983-1290888000-1290901800@www.djketan.cz
SUMMARY:3. NAROZENINY klubu LEMIRAGE
DESCRIPTION:Djs: Ketan\, FI-BO\, Choix a další – klub se i tento rok promění v letní Havana klub s opravdovou pláží a speciálními dárky\, cenami alkoholu\, občerstvením a jinými vychytávkami – vstup v plavkách není povinný 🙂
URL:https://www.djketan.cz/event/3-narozeniny-klubu-lemirage/
END:VEVENT
BEGIN:VEVENT
DTSTART;TZID=UTC:20100813T200000
DTEND;TZID=UTC:20100813T235000
DTSTAMP:20260425T193713
CREATED:20100813T000000Z
LAST-MODIFIED:20100813T000000Z
UID:997-1281729600-1281743400@www.djketan.cz
SUMMARY:RETROSPECTION!!NIGHT
DESCRIPTION:Ketan + hosté
URL:https://www.djketan.cz/event/retrospection-night-8/
END:VEVENT
BEGIN:VEVENT
DTSTART;TZID=UTC:20100619T200000
DTEND;TZID=UTC:20100619T235000
DTSTAMP:20260425T193713
CREATED:20100619T000000Z
LAST-MODIFIED:20100619T000000Z
UID:1001-1276977600-1276991400@www.djketan.cz
SUMMARY:RETROSPECTION!!NIGHT
DESCRIPTION:Ketan + hosté
URL:https://www.djketan.cz/event/retrospection-night-9/
END:VEVENT
BEGIN:VEVENT
DTSTART;TZID=UTC:20100212T200000
DTEND;TZID=UTC:20100212T235000
DTSTAMP:20260425T193713
CREATED:20100212T000000Z
LAST-MODIFIED:20100212T000000Z
UID:1016-1266004800-1266018600@www.djketan.cz
SUMMARY:RETROSPECTION!!night - Electro special
DESCRIPTION:Ketan + guest for this night Djane Miss B (roxybooking)
URL:https://www.djketan.cz/event/retrospection-night-electro-special/
END:VEVENT
BEGIN:VEVENT
DTSTART;TZID=UTC:20091225T200000
DTEND;TZID=UTC:20091225T235000
DTSTAMP:20260425T193713
CREATED:20091225T000000Z
LAST-MODIFIED:20091225T000000Z
UID:1022-1261771200-1261785000@www.djketan.cz
SUMMARY:RETROSPECTION!!night - Christmass Edition
DESCRIPTION:Ketan & vocal by Katrin (Ru)\, Dj Dannloop + guest
URL:https://www.djketan.cz/event/retrospection-night-christmass-edition/
END:VEVENT
BEGIN:VEVENT
DTSTART;TZID=UTC:20091113T200000
DTEND;TZID=UTC:20091113T235000
DTSTAMP:20260425T193713
CREATED:20091113T000000Z
LAST-MODIFIED:20091113T000000Z
UID:1054-1258142400-1258156200@www.djketan.cz
SUMMARY:RETROSPECTION!!
DESCRIPTION:Ketan & special guest – c-lounge exhibition with voc.Katrin (Ru)
URL:https://www.djketan.cz/event/retrospection/
END:VEVENT
BEGIN:VEVENT
DTSTART;TZID=UTC:20090529T200000
DTEND;TZID=UTC:20090529T235000
DTSTAMP:20260425T193713
CREATED:20090529T000000Z
LAST-MODIFIED:20090529T000000Z
UID:1064-1243627200-1243641000@www.djketan.cz
SUMMARY:RETROSPECTION!!NIGHT
DESCRIPTION:Ketan + guest
URL:https://www.djketan.cz/event/retrospection-night-14/
END:VEVENT
BEGIN:VEVENT
DTSTART;TZID=UTC:20090404T200000
DTEND;TZID=UTC:20090404T235000
DTSTAMP:20260425T193713
CREATED:20090404T000000Z
LAST-MODIFIED:20090404T000000Z
UID:1070-1238875200-1238889000@www.djketan.cz
SUMMARY:RETROSPECTION!!NIGHT
DESCRIPTION:Ketan + hosté
URL:https://www.djketan.cz/event/retrospection-night-18/
END:VEVENT
BEGIN:VEVENT
DTSTART;TZID=UTC:20090328T200000
DTEND;TZID=UTC:20090328T235000
DTSTAMP:20260425T193713
CREATED:20090328T000000Z
LAST-MODIFIED:20090328T000000Z
UID:1072-1238270400-1238284200@www.djketan.cz
SUMMARY:RETROSPECTION!!NIGHT
DESCRIPTION:Ketan + guest Dj Dannloop – premiéra nových rezidentních večerů zaměřených na starší house music\, ale ne jen na ní!! Cíl této párty je zvát hosty všech hudebních žánrů a pokrýt tak dnes existující taneční elektronické styly. Prostor dostanou i mladí a talentovaní djs a djane.
URL:https://www.djketan.cz/event/retrospection-night-15/
END:VEVENT
END:VCALENDAR