BEGIN:VCALENDAR
VERSION:2.0
PRODID:-//DJ Ketan aka 4BeCome1 - ECPv6.15.20//NONSGML v1.0//EN
CALSCALE:GREGORIAN
METHOD:PUBLISH
X-ORIGINAL-URL:https://www.djketan.cz
X-WR-CALDESC:Akce na DJ Ketan aka 4BeCome1
REFRESH-INTERVAL;VALUE=DURATION:PT1H
X-Robots-Tag:noindex
X-PUBLISHED-TTL:PT1H
BEGIN:VTIMEZONE
TZID:UTC
BEGIN:STANDARD
TZOFFSETFROM:+0000
TZOFFSETTO:+0000
TZNAME:UTC
DTSTART:20140101T000000
END:STANDARD
END:VTIMEZONE
BEGIN:VEVENT
DTSTART;TZID=UTC:20150613T200000
DTEND;TZID=UTC:20150613T235000
DTSTAMP:20260425T193546
CREATED:20150613T000000Z
LAST-MODIFIED:20150613T000000Z
UID:1096-1434225600-1434239400@www.djketan.cz
SUMMARY:Votvírák 2015
DESCRIPTION:4Become1 (clarinet/flute/sax/samplers/dj – live) \nčeká nás vystoupení v rámci Help Music stagee\, která letos bude jako naprostá novinka umístěna ve stanovém městečku.Už se moc těšíme … \nhttp://www.votvirak.cz/
URL:https://www.djketan.cz/event/votvirak-2015/
END:VEVENT
END:VCALENDAR