BEGIN:VCALENDAR
VERSION:2.0
PRODID:-//DJ Ketan aka 4BeCome1 - ECPv6.15.20//NONSGML v1.0//EN
CALSCALE:GREGORIAN
METHOD:PUBLISH
X-WR-CALNAME:DJ Ketan aka 4BeCome1
X-ORIGINAL-URL:https://www.djketan.cz
X-WR-CALDESC:Akce na DJ Ketan aka 4BeCome1
REFRESH-INTERVAL;VALUE=DURATION:PT1H
X-Robots-Tag:noindex
X-PUBLISHED-TTL:PT1H
BEGIN:VTIMEZONE
TZID:UTC
BEGIN:STANDARD
TZOFFSETFROM:+0000
TZOFFSETTO:+0000
TZNAME:UTC
DTSTART:20180101T000000
END:STANDARD
END:VTIMEZONE
BEGIN:VEVENT
DTSTART;TZID=UTC:20190125T200000
DTEND;TZID=UTC:20190125T235000
DTSTAMP:20260426T034058
CREATED:20190125T000000Z
LAST-MODIFIED:20190125T000000Z
UID:1167-1548446400-1548460200@www.djketan.cz
SUMMARY:MoOn:Sherry on the Road (vol.20)
DESCRIPTION:Pravidelná párty\, kterou pořádám léta v paláci Akropolis vyjíždí na návštěvu do kladenského music baru Murphy.Vede ho můj starý známý DJ Leary. Na tuhle návštěvu se moc těším. \nA kdo jede se mnou? \n… klikni na název pro více infa …  \nDo klubu Murphy jsem si pozval kolegu\, který často hostuje moje akce a kterým je jeden ze zakladatelů formace Chaozz DJ Ba2s alias MC Bass. Skvělý DJ a precizní selector\, hrající především Black music. \nDruhý host bude místní DJ (kladenský) a rezident klubu\, také dlouholetý kamarád a kolega DJ Wrata z uskupení Blackriders. \nJá osobně vystoupím v sólo setu a budu hrát mix všeho\, na co bude nálada. \nHrát se bude všechno na co bude chuť\, od Hipecu\, přes Electrojazz/Soul/Swing/Pop až po Funky a nakonec i trochu House music. \n  \nhttps://www.facebook.com/musicbar.tyt/
URL:https://www.djketan.cz/event/moonsherry-on-the-road-vol20/
END:VEVENT
END:VCALENDAR