BEGIN:VCALENDAR
VERSION:2.0
PRODID:-//DJ Ketan aka 4BeCome1 - ECPv6.15.20//NONSGML v1.0//EN
CALSCALE:GREGORIAN
METHOD:PUBLISH
X-WR-CALNAME:DJ Ketan aka 4BeCome1
X-ORIGINAL-URL:https://www.djketan.cz
X-WR-CALDESC:Akce na DJ Ketan aka 4BeCome1
REFRESH-INTERVAL;VALUE=DURATION:PT1H
X-Robots-Tag:noindex
X-PUBLISHED-TTL:PT1H
BEGIN:VTIMEZONE
TZID:UTC
BEGIN:STANDARD
TZOFFSETFROM:+0000
TZOFFSETTO:+0000
TZNAME:UTC
DTSTART:20100101T000000
END:STANDARD
END:VTIMEZONE
BEGIN:VEVENT
DTSTART;TZID=UTC:20110520T200000
DTEND;TZID=UTC:20110520T235000
DTSTAMP:20260425T193505
CREATED:20110520T000000Z
LAST-MODIFIED:20110520T000000Z
UID:969-1305921600-1305935400@www.djketan.cz
SUMMARY:Ketan´s Birthday - private party with friends
DESCRIPTION:Jsi přítel? Tak ti přišla pozvánka 🙂
URL:https://www.djketan.cz/event/ketan/
END:VEVENT
END:VCALENDAR