BEGIN:VCALENDAR
VERSION:2.0
PRODID:-//DJ Ketan aka 4BeCome1 - ECPv6.15.20//NONSGML v1.0//EN
CALSCALE:GREGORIAN
METHOD:PUBLISH
X-WR-CALNAME:DJ Ketan aka 4BeCome1
X-ORIGINAL-URL:https://www.djketan.cz
X-WR-CALDESC:Akce na DJ Ketan aka 4BeCome1
REFRESH-INTERVAL;VALUE=DURATION:PT1H
X-Robots-Tag:noindex
X-PUBLISHED-TTL:PT1H
BEGIN:VTIMEZONE
TZID:UTC
BEGIN:STANDARD
TZOFFSETFROM:+0000
TZOFFSETTO:+0000
TZNAME:UTC
DTSTART:20100101T000000
END:STANDARD
END:VTIMEZONE
BEGIN:VEVENT
DTSTART;TZID=UTC:20111125T200000
DTEND;TZID=UTC:20111125T235000
DTSTAMP:20260425T195718
CREATED:20111125T000000Z
LAST-MODIFIED:20111125T000000Z
UID:953-1322251200-1322265000@www.djketan.cz
SUMMARY:I LOVE HOUSE - Santa Maria
DESCRIPTION:Djs: Ketan vs. Migell
URL:https://www.djketan.cz/event/i-love-house-santa-maria/
END:VEVENT
END:VCALENDAR