BEGIN:VCALENDAR
VERSION:2.0
PRODID:-//DJ Ketan aka 4BeCome1 - ECPv6.15.20//NONSGML v1.0//EN
CALSCALE:GREGORIAN
METHOD:PUBLISH
X-WR-CALNAME:DJ Ketan aka 4BeCome1
X-ORIGINAL-URL:https://www.djketan.cz
X-WR-CALDESC:Akce na DJ Ketan aka 4BeCome1
REFRESH-INTERVAL;VALUE=DURATION:PT1H
X-Robots-Tag:noindex
X-PUBLISHED-TTL:PT1H
BEGIN:VTIMEZONE
TZID:UTC
BEGIN:STANDARD
TZOFFSETFROM:+0000
TZOFFSETTO:+0000
TZNAME:UTC
DTSTART:20080101T000000
END:STANDARD
END:VTIMEZONE
BEGIN:VEVENT
DTSTART;TZID=UTC:20091230T200000
DTEND;TZID=UTC:20091230T235000
DTSTAMP:20260425T193507
CREATED:20091230T000000Z
LAST-MODIFIED:20091230T000000Z
UID:1021-1262203200-1262217000@www.djketan.cz
SUMMARY:Broken Dose
DESCRIPTION:Djs: Miss B + guest dj Ketan & vocals by Katrin (Ru)
URL:https://www.djketan.cz/event/broken-dose/
END:VEVENT
END:VCALENDAR