BEGIN:VCALENDAR
VERSION:2.0
PRODID:-//DJ Ketan aka 4BeCome1 - ECPv6.15.20//NONSGML v1.0//EN
CALSCALE:GREGORIAN
METHOD:PUBLISH
X-ORIGINAL-URL:https://www.djketan.cz
X-WR-CALDESC:Akce na DJ Ketan aka 4BeCome1
REFRESH-INTERVAL;VALUE=DURATION:PT1H
X-Robots-Tag:noindex
X-PUBLISHED-TTL:PT1H
BEGIN:VTIMEZONE
TZID:UTC
BEGIN:STANDARD
TZOFFSETFROM:+0000
TZOFFSETTO:+0000
TZNAME:UTC
DTSTART:20140101T000000
END:STANDARD
END:VTIMEZONE
BEGIN:VEVENT
DTSTART;TZID=UTC:20151211T200000
DTEND;TZID=UTC:20151211T235000
DTSTAMP:20260425T193638
CREATED:20151211T000000Z
LAST-MODIFIED:20151211T000000Z
UID:1111-1449864000-1449877800@www.djketan.cz
SUMMARY:DEEP & SPICY NIGHT
DESCRIPTION:Ketan aka 4BeCome1 with Miss Red (live sax) and Dolph & Raffael T. \n★EVENT PRESENTS MENHOUSE & PEPE LOPEZ MUSIC CLUB★ \nklikni na název pro více infa \nKompletní informace o celé akci naleznete zde: \nhttps://www.facebook.com/events/975179812525820/
URL:https://www.djketan.cz/event/deep-spicy-night/
END:VEVENT
END:VCALENDAR