BEGIN:VCALENDAR
VERSION:2.0
PRODID:-//DJ Ketan aka 4BeCome1 - ECPv6.15.20//NONSGML v1.0//EN
CALSCALE:GREGORIAN
METHOD:PUBLISH
X-ORIGINAL-URL:https://www.djketan.cz
X-WR-CALDESC:Akce na DJ Ketan aka 4BeCome1
REFRESH-INTERVAL;VALUE=DURATION:PT1H
X-Robots-Tag:noindex
X-PUBLISHED-TTL:PT1H
BEGIN:VTIMEZONE
TZID:UTC
BEGIN:STANDARD
TZOFFSETFROM:+0000
TZOFFSETTO:+0000
TZNAME:UTC
DTSTART:20200101T000000
END:STANDARD
END:VTIMEZONE
BEGIN:VEVENT
DTSTART;TZID=UTC:20210704T200000
DTEND;TZID=UTC:20210704T235000
DTSTAMP:20260425T193510
CREATED:20210704T000000Z
LAST-MODIFIED:20210704T000000Z
UID:1204-1625428800-1625442600@www.djketan.cz
SUMMARY:Plumlov Open Castle
DESCRIPTION:Opět zavítám na Prostějovsko – za skvělou KLBCK crew\, která mě pozvala na břeh plumlovské přehrady\, pod plumlovský zámek\, kde bude probíhat nenáročný open air\, plný skvělé hudby\, jídla a pití! Začínáme v poledne a pojedeme dlouho do noci. A pak následují dva dny svátek\, takže volno! \n… klikni na název akce pro více infa …  \ninfo tba … 
URL:https://www.djketan.cz/event/plumlov-open-castle/
END:VEVENT
END:VCALENDAR