BEGIN:VCALENDAR
VERSION:2.0
PRODID:-//DJ Ketan aka 4BeCome1 - ECPv6.15.20//NONSGML v1.0//EN
CALSCALE:GREGORIAN
METHOD:PUBLISH
X-WR-CALNAME:DJ Ketan aka 4BeCome1
X-ORIGINAL-URL:https://www.djketan.cz
X-WR-CALDESC:Akce na DJ Ketan aka 4BeCome1
REFRESH-INTERVAL;VALUE=DURATION:PT1H
X-Robots-Tag:noindex
X-PUBLISHED-TTL:PT1H
BEGIN:VTIMEZONE
TZID:UTC
BEGIN:STANDARD
TZOFFSETFROM:+0000
TZOFFSETTO:+0000
TZNAME:UTC
DTSTART:20100101T000000
END:STANDARD
END:VTIMEZONE
BEGIN:VEVENT
DTSTART;TZID=UTC:20110903T200000
DTEND;TZID=UTC:20110903T235000
DTSTAMP:20260426T035757
CREATED:20110903T000000Z
LAST-MODIFIED:20110903T000000Z
UID:959-1315080000-1315093800@www.djketan.cz
SUMMARY:GTFCKD DJS MARATHON + taneční exhibice skupin i jednotlivců
DESCRIPTION:Djs: John Culter\, Pavel Bidlo\, Michael C\, Jakub Mildner\, Lukas Hulan\, Ketan\, Kifli\, Pete Walk\, Revis\, Adam Cloud\, Domie\, K.Sandra\, Migell\, Dannloop\, Michael J\, AK47 a další. Mega párty v Praze na Výstavišti se dvěma scénami – krytá a open + velká taneční exhibice v režii předních pražských tanečních crew a škol. Začátek akce je již ve 12:00 v zahradě Pražan a končit se bude v neděli v 6:00 v Křížíkově paviloně. www.gtfckd.cz
URL:https://www.djketan.cz/event/gtfckd-djs-marathon-2/
END:VEVENT
END:VCALENDAR