BEGIN:VCALENDAR
VERSION:2.0
PRODID:-//DJ Ketan aka 4BeCome1 - ECPv6.15.20//NONSGML v1.0//EN
CALSCALE:GREGORIAN
METHOD:PUBLISH
X-WR-CALNAME:DJ Ketan aka 4BeCome1
X-ORIGINAL-URL:https://www.djketan.cz
X-WR-CALDESC:Akce na DJ Ketan aka 4BeCome1
REFRESH-INTERVAL;VALUE=DURATION:PT1H
X-Robots-Tag:noindex
X-PUBLISHED-TTL:PT1H
BEGIN:VTIMEZONE
TZID:UTC
BEGIN:STANDARD
TZOFFSETFROM:+0000
TZOFFSETTO:+0000
TZNAME:UTC
DTSTART:20200101T000000
END:STANDARD
END:VTIMEZONE
BEGIN:VEVENT
DTSTART;TZID=UTC:20211126T200000
DTEND;TZID=UTC:20211126T235000
DTSTAMP:20260425T195620
CREATED:20211126T000000Z
LAST-MODIFIED:20211204T204826Z
UID:1211-1637956800-1637970600@www.djketan.cz
SUMMARY:Freefall night - ZRUŠENO/COVID
DESCRIPTION:Freefallcrew a jejich večírek v Prostoru v Boskovicích. Těšing! DJs Voodoo Piet\, můj moravský bro Smashing Raver a další.
URL:https://www.djketan.cz/event/freefall-night-zruseno-covid/
LOCATION:Prostor Boskovice\, Hradní 3\, Boskovice\, 680 01\, Česká republika
END:VEVENT
END:VCALENDAR