BEGIN:VCALENDAR
VERSION:2.0
PRODID:-//DJ Ketan aka 4BeCome1 - ECPv6.15.20//NONSGML v1.0//EN
CALSCALE:GREGORIAN
METHOD:PUBLISH
X-ORIGINAL-URL:https://www.djketan.cz
X-WR-CALDESC:Akce na DJ Ketan aka 4BeCome1
REFRESH-INTERVAL;VALUE=DURATION:PT1H
X-Robots-Tag:noindex
X-PUBLISHED-TTL:PT1H
BEGIN:VTIMEZONE
TZID:UTC
BEGIN:STANDARD
TZOFFSETFROM:+0000
TZOFFSETTO:+0000
TZNAME:UTC
DTSTART:20100101T000000
END:STANDARD
END:VTIMEZONE
BEGIN:VEVENT
DTSTART;TZID=UTC:20110916T200000
DTEND;TZID=UTC:20110916T235000
DTSTAMP:20260425T193548
CREATED:20110916T000000Z
LAST-MODIFIED:20110916T000000Z
UID:956-1316203200-1316217000@www.djketan.cz
SUMMARY:Free Base
DESCRIPTION:DJs: Proud M\, Da Moon\, Ketan\, djane Anie\, Peter Costa + bongoman Rafael
URL:https://www.djketan.cz/event/free-base/
END:VEVENT
END:VCALENDAR