BEGIN:VCALENDAR
VERSION:2.0
PRODID:-//DJ Ketan aka 4BeCome1 - ECPv6.15.20//NONSGML v1.0//EN
CALSCALE:GREGORIAN
METHOD:PUBLISH
X-WR-CALNAME:DJ Ketan aka 4BeCome1
X-ORIGINAL-URL:https://www.djketan.cz
X-WR-CALDESC:Akce na DJ Ketan aka 4BeCome1
REFRESH-INTERVAL;VALUE=DURATION:PT1H
X-Robots-Tag:noindex
X-PUBLISHED-TTL:PT1H
BEGIN:VTIMEZONE
TZID:UTC
BEGIN:STANDARD
TZOFFSETFROM:+0000
TZOFFSETTO:+0000
TZNAME:UTC
DTSTART:20200101T000000
END:STANDARD
END:VTIMEZONE
BEGIN:VEVENT
DTSTART;TZID=UTC:20210924T200000
DTEND;TZID=UTC:20210924T235000
DTSTAMP:20260425T193547
CREATED:20210924T000000Z
LAST-MODIFIED:20210924T000000Z
UID:1210-1632513600-1632527400@www.djketan.cz
SUMMARY:Sun Do Can
DESCRIPTION:Jeden asi z posledních open gigů letošního roku. Opět zavítám na kouzelné místečko pod plumlovským zámkem. S kolegou z KLBCK a charismatickým Sandokanem!  \n… klikni na název pro více infa …  \n.. více na mém facebooku
URL:https://www.djketan.cz/event/sun-do-can/
END:VEVENT
END:VCALENDAR