BEGIN:VCALENDAR
VERSION:2.0
PRODID:-//DJ Ketan aka 4BeCome1 - ECPv6.15.20//NONSGML v1.0//EN
CALSCALE:GREGORIAN
METHOD:PUBLISH
X-WR-CALNAME:DJ Ketan aka 4BeCome1
X-ORIGINAL-URL:https://www.djketan.cz
X-WR-CALDESC:Akce na DJ Ketan aka 4BeCome1
REFRESH-INTERVAL;VALUE=DURATION:PT1H
X-Robots-Tag:noindex
X-PUBLISHED-TTL:PT1H
BEGIN:VTIMEZONE
TZID:UTC
BEGIN:STANDARD
TZOFFSETFROM:+0000
TZOFFSETTO:+0000
TZNAME:UTC
DTSTART:20110101T000000
END:STANDARD
END:VTIMEZONE
BEGIN:VEVENT
DTSTART;TZID=UTC:20120326T200000
DTEND;TZID=UTC:20120326T235000
DTSTAMP:20260426T003215
CREATED:20120326T000000Z
LAST-MODIFIED:20120326T000000Z
UID:1046-1332792000-1332805800@www.djketan.cz
SUMMARY:Dj Time at Seejay Radio
DESCRIPTION:19:00 – rozhovor k akci GTFCKD + dj set
URL:https://www.djketan.cz/event/dj-time-at-seejay-radio-2/
END:VEVENT
END:VCALENDAR