BEGIN:VCALENDAR
VERSION:2.0
PRODID:-//DJ Ketan aka 4BeCome1 - ECPv6.15.20//NONSGML v1.0//EN
CALSCALE:GREGORIAN
METHOD:PUBLISH
X-ORIGINAL-URL:https://www.djketan.cz
X-WR-CALDESC:Akce na DJ Ketan aka 4BeCome1
REFRESH-INTERVAL;VALUE=DURATION:PT1H
X-Robots-Tag:noindex
X-PUBLISHED-TTL:PT1H
BEGIN:VTIMEZONE
TZID:UTC
BEGIN:STANDARD
TZOFFSETFROM:+0000
TZOFFSETTO:+0000
TZNAME:UTC
DTSTART:20170101T000000
END:STANDARD
END:VTIMEZONE
BEGIN:VEVENT
DTSTART;TZID=UTC:20180713T200000
DTEND;TZID=UTC:20180713T235000
DTSTAMP:20260425T193811
CREATED:20180713T000000Z
LAST-MODIFIED:20180713T000000Z
UID:944-1531512000-1531525800@www.djketan.cz
SUMMARY:Free Techni Night
DESCRIPTION:V klubu Storm běží letní edice různorodých akcí\, zaměřených na všechny odnože taneční hudby.Já si dám Tech/Minimal v open setu. Těším se!  \n… klikni na název pro více infa …  \nhttps://stormclub.cz/news/
URL:https://www.djketan.cz/event/free-techni-night/
END:VEVENT
END:VCALENDAR