BEGIN:VCALENDAR
VERSION:2.0
PRODID:-//DJ Ketan aka 4BeCome1 - ECPv6.15.20//NONSGML v1.0//EN
CALSCALE:GREGORIAN
METHOD:PUBLISH
X-ORIGINAL-URL:https://www.djketan.cz
X-WR-CALDESC:Akce na DJ Ketan aka 4BeCome1
REFRESH-INTERVAL;VALUE=DURATION:PT1H
X-Robots-Tag:noindex
X-PUBLISHED-TTL:PT1H
BEGIN:VTIMEZONE
TZID:UTC
BEGIN:STANDARD
TZOFFSETFROM:+0000
TZOFFSETTO:+0000
TZNAME:UTC
DTSTART:20090101T000000
END:STANDARD
END:VTIMEZONE
BEGIN:VEVENT
DTSTART;TZID=UTC:20100306T200000
DTEND;TZID=UTC:20100306T235000
DTSTAMP:20260425T193741
CREATED:20100306T000000Z
LAST-MODIFIED:20100306T000000Z
UID:1014-1267905600-1267919400@www.djketan.cz
SUMMARY:RETROSPECTION!!night
DESCRIPTION:Ketan + voc.by Katrin (Ru) + guest for this night Dj Hermez (http://www.myspace.com/hermez_cz) + support djs: Dannlopp & Ajk
URL:https://www.djketan.cz/event/retrospection-night-11/
END:VEVENT
END:VCALENDAR