BEGIN:VCALENDAR
VERSION:2.0
PRODID:-//DJ Ketan aka 4BeCome1 - ECPv6.15.20//NONSGML v1.0//EN
CALSCALE:GREGORIAN
METHOD:PUBLISH
X-WR-CALNAME:DJ Ketan aka 4BeCome1
X-ORIGINAL-URL:https://www.djketan.cz
X-WR-CALDESC:Akce na DJ Ketan aka 4BeCome1
REFRESH-INTERVAL;VALUE=DURATION:PT1H
X-Robots-Tag:noindex
X-PUBLISHED-TTL:PT1H
BEGIN:VTIMEZONE
TZID:UTC
BEGIN:STANDARD
TZOFFSETFROM:+0000
TZOFFSETTO:+0000
TZNAME:UTC
DTSTART:20080101T000000
END:STANDARD
END:VTIMEZONE
BEGIN:VEVENT
DTSTART;TZID=UTC:20120601T200000
DTEND;TZID=UTC:20120601T235000
DTSTAMP:20260425T193341
CREATED:20120601T000000Z
LAST-MODIFIED:20120601T000000Z
UID:1040-1338580800-1338594600@www.djketan.cz
SUMMARY:Techno Animals - B*day edition party by Pete Walk
DESCRIPTION:Djs: GRINing (SK)\, Adam Cloud\, Pete Walk\, Subgate\, LiVe\, Tchunhas\, Random\, Peter Costa\, Ketan\, Rob Smile\, Milo
URL:https://www.djketan.cz/event/techno-animals-bday-edition-party-by-pete-walk/
END:VEVENT
BEGIN:VEVENT
DTSTART;TZID=UTC:20090327T200000
DTEND;TZID=UTC:20090327T235000
DTSTAMP:20260425T193341
CREATED:20090327T000000Z
LAST-MODIFIED:20090327T000000Z
UID:1073-1238184000-1238197800@www.djketan.cz
SUMMARY:DEEP SOUND OF ELCHOVER
DESCRIPTION:Djs: KETAN\, Tokátko vs. Chris Cage\, Joshek\, GOLPE vs. DESTROYER\, KEYGEN KAOTIC/FR\, GANEZ THE TERRIBLE/FR
URL:https://www.djketan.cz/event/deep-sound-of-elchover/
END:VEVENT
END:VCALENDAR