BEGIN:VCALENDAR
VERSION:2.0
PRODID:-//DJ Ketan aka 4BeCome1 - ECPv6.15.20//NONSGML v1.0//EN
CALSCALE:GREGORIAN
METHOD:PUBLISH
X-ORIGINAL-URL:https://www.djketan.cz
X-WR-CALDESC:Akce na DJ Ketan aka 4BeCome1
REFRESH-INTERVAL;VALUE=DURATION:PT1H
X-Robots-Tag:noindex
X-PUBLISHED-TTL:PT1H
BEGIN:VTIMEZONE
TZID:UTC
BEGIN:STANDARD
TZOFFSETFROM:+0000
TZOFFSETTO:+0000
TZNAME:UTC
DTSTART:20080101T000000
END:STANDARD
END:VTIMEZONE
BEGIN:VEVENT
DTSTART;TZID=UTC:20090626T200000
DTEND;TZID=UTC:20090626T235000
DTSTAMP:20260425T194143
CREATED:20090626T000000Z
LAST-MODIFIED:20090626T000000Z
UID:1060-1246046400-1246060200@www.djketan.cz
SUMMARY:WAKE UP festival
DESCRIPTION:Ketan vs. Katrin (Ru – vocals)\, Gat Electra\, Roration Index (AT)\, PSH\, Polemic (SK) a mnoho dalších skvělých účinkujících – www.wakeup.cz
URL:https://www.djketan.cz/event/wake-up-festival/
END:VEVENT
END:VCALENDAR